Workbook

Sheet 已过
A2: 学号 | B2: 性别 | C2: 院系 | D2: 专业 | E2: 年级 | F2: 成绩
A3: 10130710317 | E3: 2014 | F3: 83.16
A4: 10130750115 | C4: 中国语言文学系(人文社会科学学院) | D4: 汉语言文学 | F4: 90.46
A5: 10130750115 | F5: 83.2 | G5: 20172
A6: 10133320124 | F6: 78.08 | G6: 20172
A7: 10140110101 | B7: 女 | C7: 中国语言文学系(人文社会科学学院) | D7: 汉语言文学 | E7: 2014 | F7: 70.41
A8: 10140110102 | B8: 女 | C8: 中国语言文学系(人文社会科学学院) | D8: 汉语言文学 | E8: 2014 | F8: 89.07
A9: 10140110103 | B9: 女 | C9: 中国语言文学系(人文社会科学学院) | D9: 汉语言文学 | E9: 2014 | F9: 84.09
A10: 10140110104 | B10: 女 | C10: 中国语言文学系(人文社会科学学院) | D10: 汉语言文学 | E10: 2014 | F10: 71.75
A11: 10140110105 | B11: 女 | C11: 中国语言文学系(人文社会科学学院) | D11: 汉语言文学 | E11: 2014 | F11: 73.7
A12: 10140110106 | B12: 女 | C12: 中国语言文学系(人文社会科学学院) | D12: 汉语言文学 | E12: 2014 | F12: 74.14
A13: 10140110107 | B13: 女 | C13: 中国语言文学系(人文社会科学学院) | D13: 汉语言文学 | E13: 2014 | F13: 88.81
A14: 10140110108 | B14: 女 | C14: 中国语言文学系(人文社会科学学院) | D14: 汉语言文学 | E14: 2014 | F14: 60
A15: 10140110109 | B15: 女 | C15: 中国语言文学系(人文社会科学学院) | D15: 汉语言文学 | E15: 2014 | F15: 64.08
A16: 10140110110 | B16: 女 | C16: 中国语言文学系(人文社会科学学院) | D16: 汉语言文学 | E16: 2014 | F16: 88.07
A17: 10140110111 | B17: 女 | C17: 中国语言文学系(人文社会科学学院) | D17: 汉语言文学 | E17: 2014 | F17: 88.28
A18: 10140110112 | B18: 女 | C18: 中国语言文学系(人文社会科学学院) | D18: 汉语言文学 | E18: 2014 | F18: 60
... A98: 10140110322 | B98: 女 | C98: 中国语言文学系(人文社会科学学院) | D98: 汉语言文学 | E98: 2014 | F98: 72.29
A99: 10140110323 | B99: 女 | C99: 中国语言文学系(人文社会科学学院) | D99: 汉语言文学 | E99: 2014 | F99: 体育免修（盲生）
A100: 10140110324 | B100: 女 | C100: 中国语言文学系(人文社会科学学院) | D100: 汉语言文学 | E100: 2014 | F100: 60
A101: 10140110325 | B101: 男 | C101: 中国语言文学系(人文社会科学学院) | D101: 汉语言文学 | E101: 2014 | F101: 90.46
A102: 10140110326 | B102: 女 | C102: 中国语言文学系(人文社会科学学院) | D102: 汉语言文学 | E102: 2014 | F102: 76.32
A103: 10140110327 | B103: 女 | C103: 中国语言文学系(人文社会科学学院) | D103: 汉语言文学 | E103: 2014 | F103: 87.05
A104: 10140110328 | B104: 女 | C104: 中国语言文学系(人文社会科学学院) | D104: 汉语言文学 | E104: 2014 | F104: 82.11
A105: 10140110329 | B105: 女 | C105: 中国语言文学系(人文社会科学学院) | D105: 汉语言文学 | E105: 2014 | F105: 85.5
A106: 10140110330 | B106: 女 | C106: 中国语言文学系(人文社会科学学院) | D106: 汉语言文学 | E106: 2014 | F106: 87.72
A107: 10140110331 | B107: 女 | C107: 中国语言文学系(人文社会科学学院) | D107: 汉语言文学 | E107: 2014 | F107: 89.93
A108: 10140110332 | B108: 女 | C108: 中国语言文学系(人文社会科学学院) | D108: 汉语言文学 | E108: 2014 | F108: 78.46
A109: 10140110333 | B109: 女 | C109: 中国语言文学系(人文社会科学学院) | D109: 汉语言文学 | E109: 2014 | F109: 92.15
A110: 10140110334 | B110: 女 | C110: 中国语言文学系(人文社会科学学院) | D110: 汉语言文学 | E110: 2014 | F110: 92.84
A111: 10140110335 | B111: 女 | C111: 中国语言文学系(人文社会科学学院) | D111: 汉语言文学 | E111: 2014 | F111: 79.55
... A240: 10140170227 | B240: 女 | C240: 历史学系(人文社会科学学院) | D240: 历史学 | E240: 2014 | F240: 78.12
A241: 10140170228 | B241: 女 | C241: 历史学系(人文社会科学学院) | E241: 2014 | F241: 72.26
A242: 10140170229 | B242: 女 | C242: 历史学系(人文社会科学学院) | D242: 历史学 | E242: 2014 | F242: 72.64
A243: 10140170230 | B243: 女 | C243: 历史学系(人文社会科学学院) | D243: 历史学 | E243: 2014 | F243: 89.66
A244: 10140170231 | B244: 女 | C244: 历史学系(人文社会科学学院) | D244: 历史学 | E244: 2014 | F244: 88.35
A245: 10140170232 | B245: 女 | C245: 历史学系(人文社会科学学院) | D245: 历史学 | E245: 2014 | F245: 68.99
A246: 10140170233 | B246: 男 | C246: 历史学系(人文社会科学学院) | D246: 历史学 | E246: 2014 | F246: 86.09
A247: 10140320102 | B247: 男 | C247: 应用心理学系 | D247: 应用心理学 | E247: 2014 | F247: 87.72
A248: 10140320103 | B248: 女 | C248: 应用心理学系 | D248: 应用心理学 | E248: 2014 | F248: 89.83
...

Sheet 17未过
A1: 10170110102 | C1: 否
A2: 10170110106 | C2: 否
A3: 10170110112 | C3: 否
A4: 10170110115 | C4: 否
A5: 10170110121 | C5: 否
A6: 10170110128 | C6: 否
A7: 10170110132 | C7: 否
A8: 10170110209 | C8: 否
A9: 10170110210 | C9: 否
A10: 10170110212 | C10: 否
A11: 10170110217 | C11: 否
A12: 10170110219 | C12: 否
... A1146: 10175501106 | C1146: 否

Sheet 16以前未过
A1: 10140170146
A2: 10140320141
A3: 10140330102
A4: 10140330109
A5: 10140510325
A6: 10140510328
A7: 10140520101
A8: 10140520102
A9: 10140520121
A10: 10140710207
A11: 10140720113
A12: 10140740116
... A722: 11161990159
