Workbook

Sheet 已过
A2: 学号 | B2: 性别 | C2: 院系 | D2: 专业 | E2: 年级 | F2: 成绩
A3: 10130710317 | E3: 2014 | F3: 83.16
A4: 10130750115 | C4: 中国语言文学系(人文社会科学学院) | D4: 汉语言文学 | F4: 90.46
A5: 10130750115 | F5: 83.2 | G5: 20172
A6: 10133320124 | F6: 78.08 | G6: 20172
A7: 10140110101 | B7: 女 | C7: 中国语言文学系(人文社会科学学院) | D7: 汉语言文学 | E7: 2014 | F7: 70.41
A8: 10140110102 | B8: 女 | C8: 中国语言文学系(人文社会科学学院) | D8: 汉语言文学 | E8: 2014 | F8: 89.07
A9: 10140110103 | B9: 女 | C9: 中国语言文学系(人文社会科学学院) | D9: 汉语言文学 | E9: 2014 | F9: 84.09
A10: 10140110104 | B10: 女 | C10: 中国语言文学系(人文社会科学学院) | D10: 汉语言文学 | E10: 2014 | F10: 71.75
A11: 10140110105 | B11: 女 | C11: 中国语言文学系(人文社会科学学院) | D11: 汉语言文学 | E11: 2014 | F11: 73.7
A12: 10140110106 | B12: 女 | C12: 中国语言文学系(人文社会科学学院) | D12: 汉语言文学 | E12: 2014 | F12: 74.14
A13: 10140110107 | B13: 女 | C13: 中国语言文学系(人文社会科学学院) | D13: 汉语言文学 | E13: 2014 | F13: 88.81
A14: 10140110108 | B14: 女 | C14: 中国语言文学系(人文社会科学学院) | D14: 汉语言文学 | E14: 2014 | F14: 60
A15: 10140110109 | B15: 女 | C15: 中国语言文学系(人文社会科学学院) | D15: 汉语言文学 | E15: 2014 | F15: 64.08
A16: 10140110110 | B16: 女 | C16: 中国语言文学系(人文社会科学学院) | D16: 汉语言文学 | E16: 2014 | F16: 88.07
A17: 10140110111 | B17: 女 | C17: 中国语言文学系(人文社会科学学院) | D17: 汉语言文学 | E17: 2014 | F17: 88.28
A18: 10140110112 | B18: 女 | C18: 中国语言文学系(人文社会科学学院) | D18: 汉语言文学 | E18: 2014 | F18: 60
... A98: 10140110322 | B98: 女 | C98: 中国语言文学系(人文社会科学学院) | D98: 汉语言文学 | E98: 2014 | F98: 72.29
A99: 10140110323 | B99: 女 | C99: 中国语言文学系(人文社会科学学院) | D99: 汉语言文学 | E99: 2014 | F99: 体育免修（盲生）
A100: 10140110324 | B100: 女 | C100: 中国语言文学系(人文社会科学学院) | D100: 汉语言文学 | E100: 2014 | F100: 60
A101: 10140110325 | B101: 男 | C101: 中国语言文学系(人文社会科学学院) | D101: 汉语言文学 | E101: 2014 | F101: 90.46
A102: 10140110326 | B102: 女 | C102: 中国语言文学系(人文社会科学学院) | D102: 汉语言文学 | E102: 2014 | F102: 76.32
A103: 10140110327 | B103: 女 | C103: 中国语言文学系(人文社会科学学院) | D103: 汉语言文学 | E103: 2014 | F103: 87.05
A104: 10140110328 | B104: 女 | C104: 中国语言文学系(人文社会科学学院) | D104: 汉语言文学 | E104: 2014 | F104: 82.11
A105: 10140110329 | B105: 女 | C105: 中国语言文学系(人文社会科学学院) | D105: 汉语言文学 | E105: 2014 | F105: 85.5
A106: 10140110330 | B106: 女 | C106: 中国语言文学系(人文社会科学学院) | D106: 汉语言文学 | E106: 2014 | F106: 87.72
A107: 10140110331 | B107: 女 | C107: 中国语言文学系(人文社会科学学院) | D107: 汉语言文学 | E107: 2014 | F107: 89.93
A108: 10140110332 | B108: 女 | C108: 中国语言文学系(人文社会科学学院) | D108: 汉语言文学 | E108: 2014 | F108: 78.46
A109: 10140110333 | B109: 女 | C109: 中国语言文学系(人文社会科学学院) | D109: 汉语言文学 | E109: 2014 | F109: 92.15
A110: 10140110334 | B110: 女 | C110: 中国语言文学系(人文社会科学学院) | D110: 汉语言文学 | E110: 2014 | F110: 92.84
A111: 10140110335 | B111: 女 | C111: 中国语言文学系(人文社会科学学院) | D111: 汉语言文学 | E111: 2014 | F111: 79.55
... A240: 10140170227 | B240: 女 | C240: 历史学系(人文社会科学学院) | D240: 历史学 | E240: 2014 | F240: 78.12
A241: 10140170228 | B241: 女 | C241: 历史学系(人文社会科学学院) | E241: 2014 | F241: 72.26
A242: 10140170229 | B242: 女 | C242: 历史学系(人文社会科学学院) | D242: 历史学 | E242: 2014 | F242: 72.64
A243: 10140170230 | B243: 女 | C243: 历史学系(人文社会科学学院) | D243: 历史学 | E243: 2014 | F243: 89.66
A244: 10140170231 | B244: 女 | C244: 历史学系(人文社会科学学院) | D244: 历史学 | E244: 2014 | F244: 88.35
A245: 10140170232 | B245: 女 | C245: 历史学系(人文社会科学学院) | D245: 历史学 | E245: 2014 | F245: 68.99
A246: 10140170233 | B246: 男 | C246: 历史学系(人文社会科学学院) | D246: 历史学 | E246: 2014 | F246: 86.09
A247: 10140320102 | B247: 男 | C247: 应用心理学系 | D247: 应用心理学 | E247: 2014 | F247: 87.72
A248: 10140320103 | B248: 女 | C248: 应用心理学系 | D248: 应用心理学 | E248: 2014 | F248: 89.83
A249: 10140320104 | B249: 女 | C249: 应用心理学系 | D249: 应用心理学 | E249: 2014 | F249: 68.77
A250: 10140320105 | B250: 女 | C250: 应用心理学系 | D250: 应用心理学 | E250: 2014 | F250: 91.15
A251: 10140320106 | B251: 女 | C251: 应用心理学系 | D251: 应用心理学 | E251: 2014 | F251: 91.93
A252: 10140320107 | B252: 女 | C252: 应用心理学系 | D252: 应用心理学 | E252: 2014 | F252: 78.45
A253: 10140320108 | B253: 女 | C253: 应用心理学系 | D253: 应用心理学 | E253: 2014 | F253: 75.42
... A381: 10140340140 | B381: 女 | C381: 金融与统计学院 | D381: 金融统计类 | E381: 2015 | F381: 85.93
A382: 10140340141 | B382: 女 | C382: 教育技术 | E382: 2014 | F382: 90.26
A383: 10140340142 | B383: 女 | C383: 教育信息技术学系 | D383: 教育技术学 | E383: 2014 | F383: 84.92
A384: 10140340143 | B384: 男 | C384: 数学系 | D384: 数学与应用数学类 | E384: 2015 | F384: 84.12
A385: 10140340144 | B385: 女 | C385: 教育信息技术学系 | D385: 教育技术学 | E385: 2014 | F385: 72
A386: 10140340145 | B386: 女 | C386: 教育信息技术学系 | D386: 教育技术学 | E386: 2014 | F386: 94.88
A387: 10140340146 | B387: 男 | C387: 教育信息技术学系 | D387: 教育技术学 | E387: 2014 | F387: 90.22
A388: 10140340147 | B388: 女 | C388: 教育信息技术学系 | D388: 教育技术学 | E388: 2014 | F388: 62.97
A389: 10140340148 | B389: 女 | C389: 教育信息技术学系 | D389: 教育技术学 | E389: 2014 | F389: 91.09
A390: 10140340149 | B390: 女 | C390: 教育信息技术学系 | D390: 教育技术学 | E390: 2014 | F390: 86.25
A391: 10140340150 | B391: 女 | C391: 教育信息技术学系 | D391: 教育技术学 | E391: 2014 | F391: 68.42
A392: 10140340151 | B392: 女 | C392: 教育信息技术学系 | D392: 教育技术学 | E392: 2014 | F392: 90.28
A393: 10140340152 | B393: 女 | C393: 教育信息技术学系 | D393: 教育技术学 | E393: 2014 | F393: 83.36
A394: 10140340153 | B394: 女 | C394: 教育信息技术学系 | D394: 教育技术学 | E394: 2014 | F394: 90.02
... A414: 10140510120 | B414: 女 | C414: 英语系 | D414: 英语 | E414: 2015 | F414: 84.82
A415: 10140510121 | B415: 女 | C415: 思想政治教育 | E415: 2014 | F415: 85.86
A416: 10140510122 | B416: 女 | C416: 学前教育系 | D416: 学前教育 | E416: 2014 | F416: 85.01
A417: 10140510123 | B417: 女 | C417: 学前教育系 | D417: 学前教育 | E417: 2014 | F417: 88.66
A418: 10140510124 | B418: 女 | C418: 学前教育系 | D418: 学前教育 | E418: 2014 | F418: 72.53
A419: 10140510125 | B419: 女 | C419: 学前教育系 | D419: 学前教育 | E419: 2014 | F419: 80.19
A420: 10140510126 | B420: 女 | C420: 学前教育系 | D420: 学前教育 | E420: 2014 | F420: 60
A421: 10140510127 | B421: 女 | C421: 学前教育系 | D421: 学前教育 | E421: 2014 | F421: 82.77
A422: 10140510128 | B422: 女 | C422: 学前教育系 | D422: 学前教育 | E422: 2014 | F422: 79.8
A423: 10140510129 | B423: 女 | C423: 学前教育系 | D423: 学前教育 | E423: 2014 | F423: 84.66
A424: 10140510130 | B424: 女 | C424: 英语系 | E424: 2014 | F424: 94.85
A425: 10140510131 | B425: 女 | C425: 学前教育系 | D425: 学前教育 | E425: 2014 | F425: 67.04
A426: 10140510132 | B426: 女 | C426: 英语系 | D426: 英语 | E426: 2015 | F426: 60
A427: 10140510133 | B427: 女 | C427: 物理学系 | D427: 物理学 | E427: 2015 | F427: 86.66
A428: 10140510134 | B428: 女 | C428: 历史学系(人文社会科学学院) | D428: 历史学 | E428: 2015 | F428: 90.89
A429: 10140510135 | B429: 女 | C429: 学前教育系 | D429: 学前教育 | E429: 2014 | F429: 83.98
A430: 10140510136 | B430: 女 | C430: 学前教育系 | D430: 学前教育 | E430: 2014 | F430: 75.46
A431: 10140510137 | B431: 女 | C431: 学前教育系 | D431: 学前教育 | E431: 2014 | F431: 85.03
A432: 10140510138 | B432: 女 | C432: 学前教育系 | D432: 学前教育 | E432: 2014 | F432: 60
A433: 10140510139 | B433: 女 | C433: 学前教育系 | D433: 学前教育 | E433: 2014 | F433: 64.04
A434: 10140510201 | B434: 男 | C434: 学前教育系 | D434: 学前教育 | E434: 2014 | F434: 61.58
A435: 10140510202 | B435: 男 | C435: 学前教育系 | D435: 学前教育 | E435: 2014 | F435: 64.24
A436: 10140510203 | B436: 男 | C436: 学前教育系 | D436: 学前教育 | E436: 2014 | F436: 63.4
... A454: 10140510221 | B454: 女 | C454: 学前教育系 | D454: 学前教育 | E454: 2014 | F454: 91.03
A455: 10140510222 | B455: 女 | C455: 学前教育系 | E455: 2014 | F455: 68.42
A456: 10140510223 | B456: 女 | C456: 学前教育系 | D456: 学前教育 | E456: 2014 | F456: 92.34
A457: 10140510224 | B457: 女 | C457: 学前教育系 | D457: 学前教育 | E457: 2014 | F457: 90.81
A458: 10140510225 | B458: 女 | C458: 学前教育系 | D458: 学前教育 | E458: 2014 | F458: 90.14
A459: 10140510226 | B459: 女 | C459: 学前教育系 | D459: 学前教育 | E459: 2014 | F459: 87.27
A460: 10140510227 | B460: 女 | C460: 学前教育系 | D460: 学前教育 | E460: 2014 | F460: 82.33
A461: 10140510228 | B461: 女 | C461: 学前教育系 | D461: 学前教育 | E461: 2014 | F461: 86.43
A462: 10140510229 | B462: 女 | C462: 学前教育系 | D462: 学前教育 | E462: 2014 | F462: 76.31
A463: 10140510230 | B463: 女 | C463: 学前教育系 | D463: 学前教育 | E463: 2014 | F463: 74.96
A464: 10140510231 | B464: 女 | C464: 学前教育系 | D464: 学前教育 | E464: 2014 | F464: 64.09
A465: 10140510232 | B465: 女 | C465: 学前教育系 | D465: 学前教育 | E465: 2014 | F465: 74,33
A466: 10140510233 | B466: 女 | C466: 学前教育系 | D466: 学前教育 | E466: 2014 | F466: 92.51
A467: 10140510234 | B467: 女 | C467: 学前教育系 | D467: 学前教育 | E467: 2014 | F467: 61.15
A468: 10140510235 | B468: 女 | C468: 学前教育系 | D468: 学前教育 | E468: 2014 | F468: 85.55
A469: 10140510236 | B469: 女 | C469: 学前教育系 | D469: 学前教育 | E469: 2014 | F469: 68.68
A470: 10140510237 | B470: 女 | C470: 物理学系 | D470: 物理学 | E470: 2015 | F470: 71.42
A471: 10140510238 | B471: 女 | C471: 学前教育系 | D471: 学前教育 | E471: 2014 | F471: 61.77
...

Sheet 17未过
A1: 10170110102 | C1: 否
A2: 10170110106 | C2: 否
A3: 10170110112 | C3: 否
A4: 10170110115 | C4: 否
A5: 10170110121 | C5: 否
A6: 10170110128 | C6: 否
A7: 10170110132 | C7: 否
A8: 10170110209 | C8: 否
A9: 10170110210 | C9: 否
A10: 10170110212 | C10: 否
A11: 10170110217 | C11: 否
A12: 10170110219 | C12: 否
... A1146: 10175501106 | C1146: 否

Sheet 16以前未过
A1: 10140170146
A2: 10140320141
A3: 10140330102
A4: 10140330109
A5: 10140510325
A6: 10140510328
A7: 10140520101
A8: 10140520102
A9: 10140520121
A10: 10140710207
A11: 10140720113
A12: 10140740116
... A722: 11161990159
