Workbook

Sheet 停开
A1: 序号 | B1: 课程名称 | C1: 课程类别 | D1: 教师 | E1: 实际人数 | F1: 开课单位 | G1: 备注
A2: GEOG0031112015.01 | B2: 投资区位决策学 | C2: 自然科学系列 | D2: 殷为华 | E2: 4 | F2: 城市与区域科学学院 | G2: 停开
A3: GEOG0031112051.01 | B3: 创意、创新与创业精神 | C3: 创新创业课 | D3: 翟庆华 | E3: 2 | F3: 城市与区域科学学院 | G3: 停开
A4: SOCI0031112013.02 | B4: 项目管理 | C4: 社会科学系列 | D4: 龚利 | E4: 2 | F4: 城市与区域科学学院 | G4: 停开
A5: GEOG0031112036.01 | B5: 城市化与城市问题 | C5: 自然科学系列 | D5: 王列辉 | E5: 1 | F5: 城市与区域科学学院 | G5: 停开
A6: SOCI0031112013.01 | B6: 项目管理 | C6: 社会科学系列 | D6: 龚利 | E6: 1 | F6: 城市与区域科学学院 | G6: 停开
A7: GEOG0031112036.02 | B7: 城市化与城市问题 | C7: 自然科学系列 | D7: 王列辉 | E7: 0 | F7: 城市与区域科学学院 | G7: 停开
A8: COMM0031112012.01 | B8: 互联网思想——认知重启 | C8: 社会科学系列 | D8: 段永朝,刘影 | E8: 3 | F8: 传播学院 | G8: 停开
A9: MELE0031121012.01 | B9: 微波与卫星通信 | C9: 专业任意选修 | D9: 陈德智 | E9: 13 | F9: =VLOOKUP(A9,[1]全任务!A:N,9,FALSE) -> 电子工程系 | G9: 停开
A10: ELES0031131000.01 | B10: 半导体材料表征与器件 | C10: 专业任意选修 | D10: 吴幸 | E10: 12 | F10: =VLOOKUP(A10,[1]全任务!A:N,9,FALSE) -> 电子工程系 | G10: 停开
A11: MELE0031132150.01 | B11: 嵌入式操作系统应用与实践 | C11: 专业任意选修 | D11: 李外云 | E11: 12 | F11: =VLOOKUP(A11,[1]全任务!A:N,9,FALSE) -> 电子工程系 | G11: 停开
A12: LAWS0031112039.01 | B12: 环境法的故事 | C12: 社会科学系列 | D12: 王岚 | E12: 3 | F12: 法学院 | G12: 停开
A13: LAWS0031112040.02 | B13: 刑法格言赏析 | C13: 社会科学系列 | D13: 张伟 | E13: 1 | F13: 法学院 | G13: 停开
A14: BUSI0031112005.01 | B14: 创新思维与技术 | C14: 社会科学系列 | D14: 章慧南 | E14: 0 | F14: 工商管理学院 | G14: 停开
A15: COMC0031112027.01 | B15: 地理信息系统导论 | C15: 信息科学系列 | D15: 刘素霞 | E15: 1 | F15: 计算机科学技术系 | G15: 停开
A16: EDTE0031141000.01 | B16: 英语学习策略（模块二） | C16: 教师综合素质系列 | D16: 郭宝仙 | E16: 4 | F16: 教育信息技术学系（上海数字化教育装备工程技术研究中心） | G16: 停开
A17: EDTE0031141000.03 | B17: 英语学习策略（模块二） | C17: 教师综合素质系列 | D17: 郭宝仙 | E17: 0 | F17: 教育信息技术学系（上海数字化教育装备工程技术研究中心） | G17: 停开
A18: EDTE0031142014.02 | B18: 教育研究：兴趣、想象力与批判性思维（模块一） | C18: 教师综合素质系列 | D18: 张会杰 | E18: 0 | F18: 教育信息技术学系（上海数字化教育装备工程技术研究中心） | G18: 停开
A19: EDUC0031142092.01 | B19: 陶行知教育思想研究 | C19: 教师综合素质系列 | D19: 蒋纯焦 | E19: 4 | F19: 教育学部 | G19: 停开
A20: EDTE0031142015.02 | B20: 教师领导力（模块四） | C20: 教师综合素质系列 | D20: 王绯烨 | E20: 3 | F20: 教育学部 | G20: 停开
A21: EDUC0031142051.01 | B21: 课堂教学：原理与策略（模块二） | C21: 教师综合素质系列 | D21: 刘世清 | E21: 3 | F21: 教育学部 | G21: 停开
A22: EDUC0031142093.01 | B22: SPSS在教育研究中的应用 | C22: 教师综合素质系列 | D22: 张东海 | E22: 3 | F22: 教育学部 | G22: 停开
A23: EDUC0031142062.01 | B23: 中国教育传统与变革（模块一） | C23: 教师综合素质系列 | D23: 张东海 | E23: 2 | F23: 教育学部 | G23: 停开
... A39: PESE0031142003.01 | B39: 教育测量(模块二) | C39: 教师综合素质系列 | D39: 王小慧 | E39: 0 | F39: 特殊教育学系（上海市特殊教育资源中心） | G39: 停开
A40: SPOR0031132282.01 | B40: 田径（辅修）1 | C40: =VLOOKUP(A40,[1]全任务!A:N,4,FALSE) -> 辅修 | D40: 熊文 | E40: 4 | F40: =VLOOKUP(A40,[1]全任务!A:N,9,FALSE) -> 体育学系 | G40: 停开
A41: SPOR0031132264.01 | B41: 健美操（辅修）1 | C41: =VLOOKUP(A41,[1]全任务!A:N,4,FALSE) -> 辅修 | D41: 陶乐 | E41: 0 | F41: =VLOOKUP(A41,[1]全任务!A:N,9,FALSE) -> 体育学系 | G41: 停开
A42: SPOR0031132266.01 | B42: 乒乓球（辅修）1 | C42: =VLOOKUP(A42,[1]全任务!A:N,4,FALSE) -> 辅修 | D42: 高强 | E42: 0 | F42: =VLOOKUP(A42,[1]全任务!A:N,9,FALSE) -> 体育学系 | G42: 停开
A43: SPOR0031132263.01 | B43: 流行舞 | C43: =VLOOKUP(A43,[1]全任务!A:N,4,FALSE) -> 运动技能类 | D43: 马素 | E43: 0 | F43: =VLOOKUP(A43,[1]全任务!A:N,9,FALSE) -> 体育学系 | G43: 停开
A44: SPOR0031131166.01 | B44: 体育舞蹈 | C44: =VLOOKUP(A44,[1]全任务!A:N,4,FALSE) -> 运动技能类 | D44: 周婷 | E44: 1 | F44: =VLOOKUP(A44,[1]全任务!A:N,9,FALSE) -> 体育学系 | G44: 停开
A45: SPOR0031131169.01 | B45: 小学体育与健康教学设计 | C45: =VLOOKUP(A45,[1]全任务!A:N,4,FALSE) -> 体育教育与训练类 | D45: 董翠香 | E45: 5 | F45: =VLOOKUP(A45,[1]全任务!A:N,9,FALSE) -> 体育学系 | G45: 停开
A46: SPOR0031132113.01 | B46: 体育传播学 | C46: =VLOOKUP(A46,[1]全任务!A:N,4,FALSE) -> 社会体育指导与管理类 | D46: 孙辉 | E46: 5 | F46: =VLOOKUP(A46,[1]全任务!A:N,9,FALSE) -> 体育学系 | G46: 停开
A47: SPOR0031121000.01 | B47: 健美操 | C47: =VLOOKUP(A47,[1]全任务!A:N,4,FALSE) -> 运动技能类 | D47: 周婷 | E47: 0 | F47: =VLOOKUP(A47,[1]全任务!A:N,9,FALSE) -> 体育学系 | G47: 停开
A48: SPOR0031121006.02 | B48: 排球 | C48: =VLOOKUP(A48,[1]全任务!A:N,4,FALSE) -> 运动技能类 | D48: 孙辉 | E48: 0 | F48: =VLOOKUP(A48,[1]全任务!A:N,9,FALSE) -> 体育学系 | G48: 停开
A49: SPOR0031132259.01 | B49: 体操Ⅲ | C49: =VLOOKUP(A49,[1]全任务!A:N,4,FALSE) -> 运动技能类 | D49: 陶乐 | E49: 0 | F49: =VLOOKUP(A49,[1]全任务!A:N,9,FALSE) -> 体育学系 | G49: 停开
A50: SPOR0031132261.01 | B50: 健美操 | C50: =VLOOKUP(A50,[1]全任务!A:N,4,FALSE) -> 运动技能类 | D50: 周婷 | E50: 0 | F50: =VLOOKUP(A50,[1]全任务!A:N,9,FALSE) -> 体育学系 | G50: 停开
A51: SPOR0031121002.01 | B51: 乒乓球 | C51: =VLOOKUP(A51,[1]全任务!A:N,4,FALSE) -> 运动技能类 | D51: 孙有平 | E51: 1 | F51: =VLOOKUP(A51,[1]全任务!A:N,9,FALSE) -> 体育学系 | G51: 停开
... A56: SPOR0031132012.01 | B56: 体育公共关系 | C56: =VLOOKUP(A56,[1]全任务!A:N,4,FALSE) -> 社会体育指导与管理类 | D56: 孙辉 | E56: 9 | F56: =VLOOKUP(A56,[1]全任务!A:N,9,FALSE) -> 体育学系 | G56: 停开
A57: COME0031132005.01 | B57: 网络安全技术 | C57: 专业任意选修 | D57: 汪静 | E57: 5 | F57: =VLOOKUP(A57,[1]全任务!A:N,9,FALSE) -> 通信工程系 | G57: 停开
A58: COME0031132003.01 | B58: DSP硬件设计及实践 | C58: 专业任意选修 | D58: 方晓颖 | E58: 1 | F58: =VLOOKUP(A58,[1]全任务!A:N,9,FALSE) -> 通信工程系 | G58: 停开
A59: PHIL0031112004.02 | B59: “成功之道”——前途及领袖发展项目课程 | C59: 社会科学系列 | D59: 李凌 | E59: 1 | F59: 心理学系 | G59: 停开
...
